BEGIN:VCALENDAR
VERSION:2.0
PRODID:SFPL Web Calendar
BEGIN:VEVENT
UID:72241@sfpl.org
DTSTAMP:20231217T220000Z
DTSTART:20231217T220000Z
DTEND:20231218T000000Z
SUMMARY:Cancelled: Activity: Chess Drop-In
DESCRIPTION:<p>-----Unfortunately our leaders cannot make the program today, but we will have chess sets available, so feel free to join us for self-directed chess.----</p>

<p>Learn how to play or improve your chess game with Joselyn Marroquin, an active member of the U.S. Chess Federation. All levels of experience welcome, from beginners to aspiring tournament players. Try&nbsp;your hand at the most popular board game on planet earth.</p>

<p>Every 3rd Sunday of the month, October 2023 through&nbsp;March 2024. For ages 5 and older.</p>
LOCATION:West Portal - West Portal Front Courtyard
CLASS:PUBLIC
TRANSP:TRANSPARENT
END:VEVENT
BEGIN:VALARM
TRIGGER:-PT1440M
ACTION:DISPLAY
DESCRIPTION:Event Reminder - Cancelled: Activity: Chess Drop-In
END:VALARM
END:VCALENDAR