BEGIN:VCALENDAR
VERSION:2.0
PRODID:SFPL Web Calendar
BEGIN:VEVENT
UID:73348@sfpl.org
DTSTAMP:20231216T220000Z
DTSTART:20231216T220000Z
DTEND:20231217T000000Z
SUMMARY:Activity: Decorate a Mini Parol
DESCRIPTION:<p>Celebrate Filipino culture and the holidays by decorating&nbsp;your own mini parol, star-shaped lanterns that are typically constructed with bamboo and decorated with tissue paper.&nbsp;&nbsp;</p>

<p>Space limited. Reservations required: (415) 355-5615.</p>
LOCATION:Ocean View - Ocean View Meeting Room
CLASS:PUBLIC
TRANSP:TRANSPARENT
END:VEVENT
BEGIN:VALARM
TRIGGER:-PT1440M
ACTION:DISPLAY
DESCRIPTION:Event Reminder - Activity: Decorate a Mini Parol
END:VALARM
END:VCALENDAR