BEGIN:VCALENDAR
VERSION:2.0
PRODID:SFPL Web Calendar
BEGIN:VEVENT
UID:73840@sfpl.org
DTSTAMP:20231213T230000Z
DTSTART:20231213T230000Z
DTEND:20231214T003000Z
SUMMARY:Activity: Toilet Paper Confetti Popper
DESCRIPTION:<p>Learn how to create&nbsp;confetti popper for the New Year&nbsp;celebration&nbsp;with toilet paper roll. For ages 8&ndash;13.</p>
LOCATION:Ingleside - Ingleside Children's Area
CLASS:PUBLIC
TRANSP:TRANSPARENT
END:VEVENT
BEGIN:VALARM
TRIGGER:-PT1440M
ACTION:DISPLAY
DESCRIPTION:Event Reminder - Activity: Toilet Paper Confetti Popper
END:VALARM
END:VCALENDAR