BEGIN:VCALENDAR
VERSION:2.0
PRODID:SFPL Web Calendar
BEGIN:VEVENT
UID:75157@sfpl.org
DTSTAMP:20231221T020000Z
DTSTART:20231221T020000Z
DTEND:20231221T033000Z
SUMMARY:Film: The Incredible Shrinking Woman
DESCRIPTION:<p>A housewife (Lily Tomlin) grows smaller and smaller in reaction to chemicals found in cosmetics and household products.</p>

<p>This comedy spotlights the saga of sweet Pat Kramer's tragic tumble to international freakdom as she is afflicted with the heartbreak of shrinking and her valiant struggle to survive against overpowering odds that might threaten all humanity.</p>

<p><em>The Incredible Shrinking Woman </em>is available in our libraries via <a href="https://sfpl.bibliocommons.com/v2/record/S93C3847530">Blu-ray</a> and <a href="https://sfpl.bibliocommons.com/v2/record/S93C3847746">DVD</a>.</p>

<p>2nd Floor Flix is Glen Park Branch's movie club for grownups. We watch a broad range of films, from classics to contemporaries, with a focus on exposing our audience to rising creatives, fan favorites and hopefully something new to you.</p>

<p>PG, 89 mins., 1981. Closed captions (CC) in English.</p>
LOCATION:Glen Park - Glen Park Meeting Room
CLASS:PUBLIC
TRANSP:TRANSPARENT
END:VEVENT
BEGIN:VALARM
TRIGGER:-PT1440M
ACTION:DISPLAY
DESCRIPTION:Event Reminder - Film: The Incredible Shrinking Woman
END:VALARM
END:VCALENDAR