BEGIN:VCALENDAR
VERSION:2.0
PRODID:SFPL Web Calendar
BEGIN:VEVENT
UID:75162@sfpl.org
DTSTAMP:20240110T230000Z
DTSTART:20240110T230000Z
DTEND:20240111T003000Z
SUMMARY:Film: The House on Telegraph Hill
DESCRIPTION:<p>A concentration camp survivor assumes a new identity and emigrates to America, but finds her new life is full of danger.&nbsp;<a href="https://en.wikipedia.org/wiki/The_House_on_Telegraph_Hill"><em>The House on Telegraph Hill</em></a>, which features a number of <a href="https://reelsf.com/the-house-on-telegraph-hill-1951/">San Francisco locations</a>, stars <a href="https://en.wikipedia.org/wiki/Valentina_Cortese">Valentina Cortese</a> and <a href="https://en.wikipedia.org/wiki/Richard_Basehart">Richard Basehart</a>, and was directed by Robert Wise.</p>

<p>NR, 93&nbsp;min., 1951. Closed captions (CC) in English.</p>
LOCATION:Golden Gate Valley - Golden Gate Valley Meeting Room
CLASS:PUBLIC
TRANSP:TRANSPARENT
END:VEVENT
BEGIN:VALARM
TRIGGER:-PT1440M
ACTION:DISPLAY
DESCRIPTION:Event Reminder - Film: The House on Telegraph Hill
END:VALARM
END:VCALENDAR