BEGIN:VCALENDAR
VERSION:2.0
PRODID:SFPL Web Calendar
BEGIN:VEVENT
UID:75183@sfpl.org
DTSTAMP:20231220T230000Z
DTSTART:20231220T230000Z
DTEND:20231221T010000Z
SUMMARY:Workshop: Graham Cracker Candy Houses
DESCRIPTION:<p>Build a delicious graham cracker house and decorate it with candy. For children ages 5 and older.</p>
LOCATION:Marina - Marina Children's Area
CLASS:PUBLIC
TRANSP:TRANSPARENT
END:VEVENT
BEGIN:VALARM
TRIGGER:-PT1440M
ACTION:DISPLAY
DESCRIPTION:Event Reminder - Workshop: Graham Cracker Candy Houses
END:VALARM
END:VCALENDAR