BEGIN:VCALENDAR
VERSION:2.0
PRODID:SFPL Web Calendar
BEGIN:VEVENT
UID:75187@sfpl.org
DTSTAMP:20231212T003000Z
DTSTART:20231212T003000Z
DTEND:20231212T013000Z
SUMMARY:Book Club: Middle Grade Graphic Novel, The Princess and the Grilled Cheese...
DESCRIPTION:<p>Talk about recent graphic novels with fellow comics fans.&nbsp;Our December title is <a href="https://sfpl.bibliocommons.com/v2/record/S93C5799865"><em>The Princess and the Grilled Cheese Sandwich&nbsp;</em>by Deya Muniz</a>.&nbsp;Come for&nbsp;low-key discussion even if you haven't finished the book.</p>

<p>We'll&nbsp;have copies on hold&nbsp;at Glen Park for you to pick up in advance, or <a href="https://sfpl.bibliocommons.com/v2/record/S93C5846171">find the eBook on&nbsp;Axis or Overdrive</a>. Snacks provided. For ages 8&ndash;12.</p>
LOCATION:Glen Park - Glen Park Meeting Room
CLASS:PUBLIC
TRANSP:TRANSPARENT
END:VEVENT
BEGIN:VALARM
TRIGGER:-PT1440M
ACTION:DISPLAY
DESCRIPTION:Event Reminder - Book Club: Middle Grade Graphic Novel, The Princess and the Grilled Cheese...
END:VALARM
END:VCALENDAR