BEGIN:VCALENDAR
VERSION:2.0
PRODID:SFPL Web Calendar
BEGIN:VEVENT
UID:75288@sfpl.org
DTSTAMP:20231212T230000Z
DTSTART:20231212T230000Z
DTEND:20231213T010000Z
SUMMARY:Social: Finals Fury Snack–n–Study
DESCRIPTION:<p>Study for finals. Feed your brain. We will&nbsp;supply the snacks. For ages 13&ndash;17.</p>
LOCATION:Merced - Merced Patio
CLASS:PUBLIC
TRANSP:TRANSPARENT
END:VEVENT
BEGIN:VALARM
TRIGGER:-PT1440M
ACTION:DISPLAY
DESCRIPTION:Event Reminder - Social: Finals Fury Snack–n–Study
END:VALARM
END:VCALENDAR