BEGIN:VCALENDAR
VERSION:2.0
PRODID:SFPL Web Calendar
BEGIN:VEVENT
UID:75349@sfpl.org
DTSTAMP:20231209T200000Z
DTSTART:20231209T200000Z
DTEND:20231209T210000Z
SUMMARY:Performance: René y Familia
DESCRIPTION:<p>Listen to the sounds of Ren&eacute; y Familia, a three generation strong family band that performs original bilingual children's music in Spanish and English as well as traditional and contemporary Latin music.</p>

<p>For children and their families.</p>

<p>Connect: <a href="https://www.youtube.com/channel/UC8J3UKsSs37DSyY8n6708uQ"><strong>Ren&eacute; y Familia</strong> &ndash; YouTube</a></p>
LOCATION:Eureka Valley/Harvey Milk Memorial - Eureka Valley Children's Area
CLASS:PUBLIC
TRANSP:TRANSPARENT
END:VEVENT
BEGIN:VALARM
TRIGGER:-PT1440M
ACTION:DISPLAY
DESCRIPTION:Event Reminder - Performance: René y Familia
END:VALARM
END:VCALENDAR