BEGIN:VCALENDAR
VERSION:2.0
PRODID:SFPL Web Calendar
BEGIN:VEVENT
UID:75355@sfpl.org
DTSTAMP:20231220T230000Z
DTSTART:20231220T230000Z
DTEND:20231221T003000Z
SUMMARY:Tutorial: Kanopy
DESCRIPTION:<p>Learn to watch free streaming movies on Kanopy and participate in a raffle to win a Chromebook.&nbsp;</p>

<p>Space limited.&nbsp;Reservations required: (415) 355-5615.</p>
LOCATION:Ocean View - Ocean View Meeting Room
CLASS:PUBLIC
TRANSP:TRANSPARENT
END:VEVENT
BEGIN:VALARM
TRIGGER:-PT1440M
ACTION:DISPLAY
DESCRIPTION:Event Reminder - Tutorial: Kanopy
END:VALARM
END:VCALENDAR