BEGIN:VCALENDAR
VERSION:2.0
PRODID:SFPL Web Calendar
BEGIN:VEVENT
UID:75389@sfpl.org
DTSTAMP:20231228T220000Z
DTSTART:20231228T220000Z
DTEND:20231229T010000Z
SUMMARY:Workshop: Drive-In Movie
DESCRIPTION:<p>Turn a cardboard box into a cool, kid-friendly car. Then park your sweet ride for a drive-in film. Movie snacks will be provided. For ages 4-13.</p>

<p>Film: Frozen</p>

<p>After the kingdom of Arendelle is cast into eternal winter by the powerful Snow Queen Elsa, her sprightly sister Anna teams up with a rough-hewn mountaineer named Kristoff and his trusty reindeer Sven to break the icy spell. Based on "The Snow Queen" by Hans Christian Andersen.</p>

<p>PG, 108&nbsp;mins., 2013. Closed captions (CC) in English.</p>
LOCATION:Portola - Portola Meeting Room
CLASS:PUBLIC
TRANSP:TRANSPARENT
END:VEVENT
BEGIN:VALARM
TRIGGER:-PT1440M
ACTION:DISPLAY
DESCRIPTION:Event Reminder - Workshop: Drive-In Movie
END:VALARM
END:VCALENDAR