BEGIN:VCALENDAR
VERSION:2.0
PRODID:SFPL Web Calendar
BEGIN:VEVENT
UID:75570@sfpl.org
DTSTAMP:20231213T233000Z
DTSTART:20231213T233000Z
DTEND:20231214T003000Z
SUMMARY:Activity: LED Paper Circuits
DESCRIPTION:<p>Make a simple&nbsp;electrical circuits on a flat piece of paper to create an illuminated holiday&nbsp;card. For ages 10&ndash;12. Space limited. Reservations required: (415) 355-2889.&nbsp;</p>
LOCATION:Chinatown/Him Mark Lai - Chinatown Children's Area
CLASS:PUBLIC
TRANSP:TRANSPARENT
END:VEVENT
BEGIN:VALARM
TRIGGER:-PT1440M
ACTION:DISPLAY
DESCRIPTION:Event Reminder - Activity: LED Paper Circuits
END:VALARM
END:VCALENDAR