BEGIN:VCALENDAR
VERSION:2.0
PRODID:SFPL Web Calendar
BEGIN:VEVENT
UID:75597@sfpl.org
DTSTAMP:20240109T230000Z
DTSTART:20240109T230000Z
DTEND:20240110T003000Z
SUMMARY:Activity: Button Making
DESCRIPTION:<p>Create buttons of your own design to pin on your clothes or bag.&nbsp;Show it off or give them to friends!&nbsp;</p>
LOCATION:Golden Gate Valley - Golden Gate Valley Meeting Room
CLASS:PUBLIC
TRANSP:TRANSPARENT
END:VEVENT
BEGIN:VALARM
TRIGGER:-PT1440M
ACTION:DISPLAY
DESCRIPTION:Event Reminder - Activity: Button Making
END:VALARM
END:VCALENDAR