BEGIN:VCALENDAR
VERSION:2.0
PRODID:SFPL Web Calendar
BEGIN:VEVENT
UID:75601@sfpl.org
DTSTAMP:20231227T233000Z
DTSTART:20231227T233000Z
DTEND:20231228T010000Z
SUMMARY:Workshop: New Year Vision Boards
DESCRIPTION:<p>Create a vibrant vision board, a collage that will help bring your goals and dreams to life. Materials are provided; feel free to bring pictures, phrases, or anything else you may specifically want to include. For ages 8 and older.</p>
LOCATION:Western Addition - Western Addition Meeting Room
CLASS:PUBLIC
TRANSP:TRANSPARENT
END:VEVENT
BEGIN:VALARM
TRIGGER:-PT1440M
ACTION:DISPLAY
DESCRIPTION:Event Reminder - Workshop: New Year Vision Boards
END:VALARM
END:VCALENDAR