BEGIN:VCALENDAR
VERSION:2.0
PRODID:SFPL Web Calendar
BEGIN:VEVENT
UID:75641@sfpl.org
DTSTAMP:20231217T220000Z
DTSTART:20231217T220000Z
DTEND:20231217T231500Z
SUMMARY:Workshop: Punch Needle Ornament
DESCRIPTION:<p>Learn the basics of punch needling and create your own&nbsp;ornament to take home to enjoy&nbsp;or gift to a friend. Activity will take a minimum of one hour&nbsp;to complete. For ages 10&ndash;18.&nbsp;Space limited.&nbsp;&nbsp;</p>
LOCATION:Bayview/Linda Brooks-Burton - Bayview Meeting Room
CLASS:PUBLIC
TRANSP:TRANSPARENT
END:VEVENT
BEGIN:VALARM
TRIGGER:-PT1440M
ACTION:DISPLAY
DESCRIPTION:Event Reminder - Workshop: Punch Needle Ornament
END:VALARM
END:VCALENDAR