BEGIN:VCALENDAR
VERSION:2.0
PRODID:SFPL Web Calendar
BEGIN:VEVENT
UID:75656@sfpl.org
DTSTAMP:20231224T220000Z
DTSTART:20231224T220000Z
DTEND:20231224T233000Z
SUMMARY:Film: Elf
DESCRIPTION:<p>A young orphan child mistakenly crawls into Santa's bag and is transported back to the North Pole to be raised as an elf. Years later, Buddy learns he is not really an elf and goes on a journey to New York to find his true identity. PG, 90 mins., 2004. Closed captions (CC) in English.</p>
LOCATION:Merced - Merced General Floor Area
CLASS:PUBLIC
TRANSP:TRANSPARENT
END:VEVENT
BEGIN:VALARM
TRIGGER:-PT1440M
ACTION:DISPLAY
DESCRIPTION:Event Reminder - Film: Elf
END:VALARM
END:VCALENDAR