BEGIN:VCALENDAR
VERSION:2.0
PRODID:SFPL Web Calendar
BEGIN:VEVENT
UID:75657@sfpl.org
DTSTAMP:20231213T020000Z
DTSTART:20231213T020000Z
DTEND:20231213T030000Z
SUMMARY:Book Club: African American Family Legacy
DESCRIPTION:<p>Focused on books that discuss research into African American family history and that illuminate the journey towards the discovery of our ancestors. &nbsp;</p>

<p>The group will meet on Zoom on alternating months on the second Tuesday at 6 p.m.&nbsp;</p>

<p>This month's book:&nbsp;</p>

<p><em><a href="https://sfpl.bibliocommons.com/v2/record/S93C1190748">Proud Shoes: The Story of an American Family</a></em> by Pauli Murray&nbsp;</p>

<p>Originally published in 1956, Pauli Murray tells the story of her grandparents, delving into the realities of slavery, survival, and miscegenation in the pre-Civil War/Reconstruction era in the South."</p>
LOCATION:Virtual Library
CLASS:PUBLIC
TRANSP:TRANSPARENT
END:VEVENT
BEGIN:VALARM
TRIGGER:-PT1440M
ACTION:DISPLAY
DESCRIPTION:Event Reminder - Book Club: African American Family Legacy
END:VALARM
END:VCALENDAR