BEGIN:VCALENDAR
VERSION:2.0
PRODID:SFPL Web Calendar
BEGIN:VEVENT
UID:75684@sfpl.org
DTSTAMP:20231218T220000Z
DTSTART:20231218T220000Z
DTEND:20231219T000000Z
SUMMARY:Workshop: Little Notebook Making
DESCRIPTION:<p>Create a&nbsp;notebook with cardstock, waxed thread and paper.&nbsp; Use as a journal or give away as a gift.&nbsp;</p>

<p>Space is limited. Reservation required: 415-355-2838.</p>
LOCATION:Mission Bay - Mission Bay Program Room
CLASS:PUBLIC
TRANSP:TRANSPARENT
END:VEVENT
BEGIN:VALARM
TRIGGER:-PT1440M
ACTION:DISPLAY
DESCRIPTION:Event Reminder - Workshop: Little Notebook Making
END:VALARM
END:VCALENDAR