BEGIN:VCALENDAR
VERSION:2.0
PRODID:SFPL Web Calendar
BEGIN:VEVENT
UID:75741@sfpl.org
DTSTAMP:20231222T000000Z
DTSTART:20231222T000000Z
DTEND:20231222T010000Z
SUMMARY:Activity: LED paper circuits
DESCRIPTION:<p>Design a cool card using LED lights and paper circuits. Use your imagination to make a light-up piece of art to celebrate the longest night of the year, the Winter Solstice. For ages 5 and older.&nbsp;</p>
LOCATION:Ingleside - Ingleside Children's Area
CLASS:PUBLIC
TRANSP:TRANSPARENT
END:VEVENT
BEGIN:VALARM
TRIGGER:-PT1440M
ACTION:DISPLAY
DESCRIPTION:Event Reminder - Activity: LED paper circuits
END:VALARM
END:VCALENDAR