BEGIN:VCALENDAR
VERSION:2.0
PRODID:SFPL Web Calendar
BEGIN:VEVENT
UID:75873@sfpl.org
DTSTAMP:20231216T230000Z
DTSTART:20231216T230000Z
DTEND:20231217T003000Z
SUMMARY:Workshop: Holiday Jewelry-Making with Chelsee Robinson
DESCRIPTION:<p>Jeweler extraordinaire, Chelsee Robinson, will guide you in learning the latest techniques & applications. Work with real stones, crystals, beads and more to create a beautiful necklace, bracelet or earrings and create holiday gifts. For ages 8&ndash;18. Space limited. Reservations required: (415) 355-5660.</p>
LOCATION:Portola - Portola Meeting Room
CLASS:PUBLIC
TRANSP:TRANSPARENT
END:VEVENT
BEGIN:VALARM
TRIGGER:-PT1440M
ACTION:DISPLAY
DESCRIPTION:Event Reminder - Workshop: Holiday Jewelry-Making with Chelsee Robinson
END:VALARM
END:VCALENDAR