BEGIN:VCALENDAR
VERSION:2.0
PRODID:SFPL Web Calendar
BEGIN:VEVENT
UID:75908@sfpl.org
DTSTAMP:20240107T233000Z
DTSTART:20240107T233000Z
DTEND:20240108T003000Z
SUMMARY:Author Talk: Michael Alenyikov presents Sorrow's Drive
DESCRIPTION:<p>Join Michael Alenyikov for a reading from his latest book <em><a href="https://sfpl.bibliocommons.com/v2/record/S93C5660521">Sorrow&rsquo;s Drive: A Quartet</a>, </em>a set of novellas&nbsp;that sweep across continents, decades, and memories, capturing the aftermath of the loss of innocence.&nbsp; Q&A and discussion to follow, with the Eureka Valley Reads Book Club.&nbsp;&nbsp;&nbsp;</p>

<p>Alenyikov is the award-winning author of <em><a href="https://sfpl.bibliocommons.com/v2/record/S93C2375772">Ivan and Misha</a></em>.&nbsp; He lives in San Francisco.&nbsp;</p>

<p>Connect: <a href="http://michaelalenyikov.net/">Michael Alenyikov - website</a>&nbsp;</p>
LOCATION:Eureka Valley/Harvey Milk Memorial - Eureka Valley General Floor Area
CLASS:PUBLIC
TRANSP:TRANSPARENT
END:VEVENT
BEGIN:VALARM
TRIGGER:-PT1440M
ACTION:DISPLAY
DESCRIPTION:Event Reminder - Author Talk: Michael Alenyikov presents Sorrow's Drive
END:VALARM
END:VCALENDAR