BEGIN:VCALENDAR
VERSION:2.0
PRODID:SFPL Web Calendar
BEGIN:VEVENT
UID:76067@sfpl.org
DTSTAMP:20231221T230000Z
DTSTART:20231221T230000Z
DTEND:20231222T010000Z
SUMMARY:Workshop: Upcycle Wrapping Paper and Greeting Cards
DESCRIPTION:<p>Learn how to make beautiful wrapping paper and greeting cards using recycled materials.</p>
LOCATION:Marina - Marina General Floor Area
CLASS:PUBLIC
TRANSP:TRANSPARENT
END:VEVENT
BEGIN:VALARM
TRIGGER:-PT1440M
ACTION:DISPLAY
DESCRIPTION:Event Reminder - Workshop: Upcycle Wrapping Paper and Greeting Cards
END:VALARM
END:VCALENDAR