BEGIN:VCALENDAR
VERSION:2.0
PRODID:SFPL Web Calendar
BEGIN:VEVENT
UID:76264@sfpl.org
DTSTAMP:20231216T190000Z
DTSTART:20231216T190000Z
DTEND:20231216T200000Z
SUMMARY:Activity: Exploring the World of Optics
DESCRIPTION:<p>Learn about the phenomenon of refraction through real, visual phenomena.&nbsp;&nbsp;</p>
LOCATION:West Portal - West Portal Children's Area
CLASS:PUBLIC
TRANSP:TRANSPARENT
END:VEVENT
BEGIN:VALARM
TRIGGER:-PT1440M
ACTION:DISPLAY
DESCRIPTION:Event Reminder - Activity: Exploring the World of Optics
END:VALARM
END:VCALENDAR