BEGIN:VCALENDAR
VERSION:2.0
PRODID:SFPL Web Calendar
BEGIN:VEVENT
UID:76894@sfpl.org
DTSTAMP:20231213T230000Z
DTSTART:20231213T230000Z
DTEND:20231214T003000Z
SUMMARY:Activity: Mini Parols or Holiday Star Lanterns
DESCRIPTION:<p>Celebrate Filipino culture and the holidays by decorating&nbsp;your own mini parol. Parols are star-shaped lanterns that are typically constructed with bamboo and decorated with tissue paper. Space limited. Reservations recommended: (415) 355-2868.&nbsp;</p>
LOCATION:Excelsior - Excelsior Meeting Room
CLASS:PUBLIC
TRANSP:TRANSPARENT
END:VEVENT
BEGIN:VALARM
TRIGGER:-PT1440M
ACTION:DISPLAY
DESCRIPTION:Event Reminder - Activity: Mini Parols or Holiday Star Lanterns
END:VALARM
END:VCALENDAR