BEGIN:VCALENDAR
VERSION:2.0
PRODID:SFPL Web Calendar
BEGIN:VEVENT
UID:77003@sfpl.org
DTSTAMP:20240106T220000Z
DTSTART:20240106T220000Z
DTEND:20240106T233000Z
SUMMARY:Workshop: Create Your Adventure Story
DESCRIPTION:<p>Learn basic storytelling techniques and discover your authentic voice in this interactive workshop series. Personal, ageless, inclusive&mdash;the art of traditional storytelling is for everyone.&nbsp;</p>

<p>In this session we will be crafting our adventure stories.&nbsp; By chronicling our adventures with well-told stories, we bring a unique perspective to our experiences.&nbsp; With step-by-step coaching and partner sharing, you'll create an unforgettable adventure story!</p>

<p>Upcoming themes include childhood, challenges, your defining story, and family folklore.&nbsp; Workshop participants are invited to share their stories at our Workshop Participants&rsquo; Showcase on Saturday, May 18, 2024.</p>

<p>Registration required.&nbsp; Call 415-355-2886 to register for one workshop or the whole series.</p>

<p>Presented by <a href="https://katefarrell.net/">Kate Farrell</a>, author, librarian, founder of the Word Weaving Storytelling Project.</p>
LOCATION:West Portal - West Portal Children's Area
CLASS:PUBLIC
TRANSP:TRANSPARENT
END:VEVENT
BEGIN:VALARM
TRIGGER:-PT1440M
ACTION:DISPLAY
DESCRIPTION:Event Reminder - Workshop: Create Your Adventure Story
END:VALARM
END:VCALENDAR