BEGIN:VCALENDAR
VERSION:2.0
PRODID:SFPL Web Calendar
BEGIN:VEVENT
UID:77331@sfpl.org
DTSTAMP:20240111T000000Z
DTSTART:20240111T000000Z
DTEND:20240111T020000Z
SUMMARY:Workshop: Fingerless Gloves with GoGo Craft
DESCRIPTION:<p>Learn how to make a shrunken sweater into a pair of cozy fingerless gloves. Not too handy with a sewing machine?&nbsp; Not to worry! This low sew project can be completed with our patterns and just a needle and thread. Shrunken sweaters provided.</p>

<p>For ages 8 and older.</p>

<p>Space limited. Reservations required:&nbsp;(415) 355-2868</p>
LOCATION:Excelsior - Excelsior Meeting Room
CLASS:PUBLIC
TRANSP:TRANSPARENT
END:VEVENT
BEGIN:VALARM
TRIGGER:-PT1440M
ACTION:DISPLAY
DESCRIPTION:Event Reminder - Workshop: Fingerless Gloves with GoGo Craft
END:VALARM
END:VCALENDAR