BEGIN:VCALENDAR
VERSION:2.0
PRODID:SFPL Web Calendar
BEGIN:VEVENT
UID:77499@sfpl.org
DTSTAMP:20240106T220000Z
DTSTART:20240106T220000Z
DTEND:20240106T230000Z
SUMMARY:Workshop: Introduction to Game Development
DESCRIPTION:<p>Learn how to recreate the iconic Flappy Bird game with PyGame and Python and discover how your favorite games were made.&nbsp;For ages 10&ndash;18.&nbsp;Space limited. Reservations required: (415) 355-2868.</p>

<p>TeenTechSF is a nonprofit organization run for and by teens. Our mission is to provide equal access to tech for all because diversity fuels innovation. Since launching, TeenTechSF has connected over 3500+ teens in the Bay Area and around the world to tech mentors and civic entrepreneurs from Apple to Zynga, through tech conferences, civic hackathons, and STEM Workshops.</p>

<p>Connect: <a href="https://teentechsf.org/">TeenTechSF - Website</a></p>
LOCATION:Excelsior - Excelsior Meeting Room
CLASS:PUBLIC
TRANSP:TRANSPARENT
END:VEVENT
BEGIN:VALARM
TRIGGER:-PT1440M
ACTION:DISPLAY
DESCRIPTION:Event Reminder - Workshop: Introduction to Game Development
END:VALARM
END:VCALENDAR