BEGIN:VCALENDAR
VERSION:2.0
PRODID:SFPL Web Calendar
BEGIN:VEVENT
UID:77501@sfpl.org
DTSTAMP:20240105T000000Z
DTSTART:20240105T000000Z
DTEND:20240105T004500Z
SUMMARY:Activity: LEGOs and Periscopes
DESCRIPTION:<p>Construct a simple periscope&nbsp;with a cardboard tube and mirrors.&nbsp;We'll also have&nbsp;LEGOs&nbsp;galore for building and toys for your littler ones to play with.&nbsp;For ages 5-8.&nbsp;</p>
LOCATION:North Beach - North Beach Library Community Room
CLASS:PUBLIC
TRANSP:TRANSPARENT
END:VEVENT
BEGIN:VALARM
TRIGGER:-PT1440M
ACTION:DISPLAY
DESCRIPTION:Event Reminder - Activity: LEGOs and Periscopes
END:VALARM
END:VCALENDAR