BEGIN:VCALENDAR
VERSION:2.0
PRODID:SFPL Web Calendar
BEGIN:VEVENT
UID:77560@sfpl.org
DTSTAMP:20240109T003000Z
DTSTART:20240109T003000Z
DTEND:20240109T013000Z
SUMMARY:Middle Grade Graphic Novels: Svetlana Chmakova's Be Wary of the Silent Woods
DESCRIPTION:<p>Talk about recent graphic novels with fellow comics fans.&nbsp;Our January title is <a href="https://sfpl.bibliocommons.com/v2/record/S93C4264413"><em>The Weirn Books, 1. Be Wary of the Silent Woods</em> by Svetlana Chmakova​</a>​​​​​​.&nbsp;Come for&nbsp;low-key discussion even if you haven't finished the book.</p>

<p>We'll&nbsp;have copies on hold&nbsp;at Glen Park for you to pick up in advance. Snacks provided. For ages 8&ndash;12.</p>
LOCATION:Glen Park - Glen Park Meeting Room
CLASS:PUBLIC
TRANSP:TRANSPARENT
END:VEVENT
BEGIN:VALARM
TRIGGER:-PT1440M
ACTION:DISPLAY
DESCRIPTION:Event Reminder - Middle Grade Graphic Novels: Svetlana Chmakova's Be Wary of the Silent Woods
END:VALARM
END:VCALENDAR