BEGIN:VCALENDAR
VERSION:2.0
PRODID:SFPL Web Calendar
BEGIN:VEVENT
UID:77590@sfpl.org
DTSTAMP:20240111T020000Z
DTSTART:20240111T020000Z
DTEND:20240111T030000Z
SUMMARY:Activity: Toddler Tunnels and Tents
DESCRIPTION:<p>Play in a peek-a-boo tunnel and tent at this open play activity before Pajama Storytime.</p>

<p>For children&nbsp;and their families.</p>
LOCATION:Glen Park - Glen Park Meeting Room
CLASS:PUBLIC
TRANSP:TRANSPARENT
END:VEVENT
BEGIN:VALARM
TRIGGER:-PT1440M
ACTION:DISPLAY
DESCRIPTION:Event Reminder - Activity: Toddler Tunnels and Tents
END:VALARM
END:VCALENDAR