BEGIN:VCALENDAR
VERSION:2.0
PRODID:SFPL Web Calendar
BEGIN:VEVENT
UID:77622@sfpl.org
DTSTAMP:20240103T233000Z
DTSTART:20240103T233000Z
DTEND:20240104T010000Z
SUMMARY:Activity: Teen Book Swap 青少年圖書交換寫書評
DESCRIPTION:<p>Get a free book for a book review. Choose from a special selection of books&mdash;new, old and ones that have yet to be published. For ages 12&ndash;18.</p>

<p>得到免費圖書, 並寫讀後心得. 從一些特別選擇書籍中挑選: 有新書, 舊書, 以及尚未出版的書. 年齡為12歲至18歲.</p>
LOCATION:Chinatown/Him Mark Lai - Chinatown Meeting Room
CLASS:PUBLIC
TRANSP:TRANSPARENT
END:VEVENT
BEGIN:VALARM
TRIGGER:-PT1440M
ACTION:DISPLAY
DESCRIPTION:Event Reminder - Activity: Teen Book Swap 青少年圖書交換寫書評
END:VALARM
END:VCALENDAR