BEGIN:VCALENDAR
VERSION:2.0
PRODID:SFPL Web Calendar
BEGIN:VEVENT
UID:77723@sfpl.org
DTSTAMP:20240111T234500Z
DTSTART:20240111T234500Z
DTEND:20240112T004500Z
SUMMARY:Activity: LEGO Free Play
DESCRIPTION:<p>Build skyscrapers, forts, castles or whatever your imagination desires with LEGO. For ages 6&ndash;12.&nbsp;</p>
LOCATION:Chinatown/Him Mark Lai - Chinatown Meeting Room
CLASS:PUBLIC
TRANSP:TRANSPARENT
END:VEVENT
BEGIN:VALARM
TRIGGER:-PT1440M
ACTION:DISPLAY
DESCRIPTION:Event Reminder - Activity: LEGO Free Play
END:VALARM
END:VCALENDAR