BEGIN:VCALENDAR
VERSION:2.0
PRODID:SFPL Web Calendar
BEGIN:VEVENT
UID:77944@sfpl.org
DTSTAMP:20231227T023000Z
DTSTART:20231227T023000Z
DTEND:20231227T033000Z
SUMMARY:Book Club: Excelsior Reads
DESCRIPTION:<p>The Excelsior Branch Book Club will discuss&nbsp;their favorite reads, watches, and listens of the year.&nbsp;</p>
LOCATION:Excelsior - Excelsior Meeting Room
CLASS:PUBLIC
TRANSP:TRANSPARENT
END:VEVENT
BEGIN:VALARM
TRIGGER:-PT1440M
ACTION:DISPLAY
DESCRIPTION:Event Reminder - Book Club: Excelsior Reads
END:VALARM
END:VCALENDAR