BEGIN:VCALENDAR
VERSION:2.0
PRODID:SFPL Web Calendar
BEGIN:VEVENT
UID:79582@sfpl.org
DTSTAMP:20231215T010000Z
DTSTART:20231215T010000Z
DTEND:20231215T023000Z
SUMMARY:Workshop: Cookie Baking
DESCRIPTION:<p>Chocolate Chip Cookie Workshop.&nbsp; Elevate your cookie game just in time&nbsp; for the holidays!&nbsp; Space limited. Reservations required: (415) 355-5600, or at the reference desk.&nbsp;</p>
LOCATION:Richmond/Senator Milton Marks - Richmond 10th Avenue Park
CLASS:PUBLIC
TRANSP:TRANSPARENT
END:VEVENT
BEGIN:VALARM
TRIGGER:-PT1440M
ACTION:DISPLAY
DESCRIPTION:Event Reminder - Workshop: Cookie Baking
END:VALARM
END:VCALENDAR