BEGIN:VCALENDAR
VERSION:2.0
PRODID:SFPL Web Calendar
BEGIN:VEVENT
UID:79604@sfpl.org
DTSTAMP:20240112T000000Z
DTSTART:20240112T000000Z
DTEND:20240112T010000Z
SUMMARY:Workshop: Design a Logo With Adobe Illustrator
DESCRIPTION:<p>Learn how to use layered vector shapes to design a logo with Adobe Illustrator.&nbsp;For ages 12&ndash;18.&nbsp;</p>
LOCATION:Main Library - Mix: Read/Write/Study - 2nd Fl
CLASS:PUBLIC
TRANSP:TRANSPARENT
END:VEVENT
BEGIN:VALARM
TRIGGER:-PT1440M
ACTION:DISPLAY
DESCRIPTION:Event Reminder - Workshop: Design a Logo With Adobe Illustrator
END:VALARM
END:VCALENDAR