BEGIN:VCALENDAR
VERSION:2.0
PRODID:SFPL Web Calendar
BEGIN:VEVENT
UID:79619@sfpl.org
DTSTAMP:20231223T230000Z
DTSTART:20231223T230000Z
DTEND:20231224T010000Z
SUMMARY:Activity: Holiday Card Making
DESCRIPTION:<p>Make a festive card to decorate your home or give away. Bring a friend to enjoy seasonal treats and holiday cheer.</p>
LOCATION:Western Addition - Western Addition Meeting Room
CLASS:PUBLIC
TRANSP:TRANSPARENT
END:VEVENT
BEGIN:VALARM
TRIGGER:-PT1440M
ACTION:DISPLAY
DESCRIPTION:Event Reminder - Activity: Holiday Card Making
END:VALARM
END:VCALENDAR