BEGIN:VCALENDAR
VERSION:2.0
PRODID:SFPL Web Calendar
BEGIN:VEVENT
UID:81747@sfpl.org
DTSTAMP:20240111T213000Z
DTSTART:20240111T213000Z
DTEND:20240112T003000Z
SUMMARY:Services: Pop-Up Vaccination Clinic
DESCRIPTION:<p>Get your free COVID, flu or Mpox vaccine at this pop-up vaccine clinic held by&nbsp;<a href="https://www.sf.gov/departments/department-public-health">San Francisco Department of Public Health</a> and <a href="https://visithealth.com/">Visit Health</a>.&nbsp;Drop-in&nbsp;or register in advance:&nbsp;<a href="https://url.avanan.click/v2/___https://myturn.ca.gov/scheduling?config=7db7c205-5497-44e9-a19b-22fc4f316068___.YXAzOnNmZHQyOmE6bzowZjkyM2QyNDFmYmNmYTFlYmVhYjhkZDBmYmYzZDNmYjo2OjZlM2Q6MjQwOWMxOTQzYzQ0MTk1N2Y2ZGY3ZDc1YWVlNzIyYzY3ZmUyNTMxMTRlNWQ2ZTU2NWYxMGIzOGU5NzAwNzY2NzpoOlQ">Registration in English Language</a>&nbsp;or&nbsp;<a href="https://url.avanan.click/v2/___https://myturn.ca.gov/scheduling?config=bd9df9e0-61a0-4da4-994c-a92453a066b1___.YXAzOnNmZHQyOmE6bzowZjkyM2QyNDFmYmNmYTFlYmVhYjhkZDBmYmYzZDNmYjo2OjU5ZTA6MjU1YThhNmY4NWEwMzUyNmVkYWM5NTE3MGQwZTBlYWRiZTczYzZhNDhlN2E2NDZmZjdmOWViZTM3ODRiMDE4NzpoOlQ">Registration in Spanish Language</a>. For ages 5 and older.</p>

<p>這個臨時疫苗接種診所是為年齡 5 歲及以上的任何人免費提供新冠肺炎/流感/痘痘的接種疫苗。 可在指定時間內前往這個臨時診所登記 或 提前使用以下網址登記。<a href="http://tinyurl.com/2f5bw6z3">使用英文網頁登記</a>&nbsp;or&nbsp;<a href="http://tinyurl.com/4dw7acju">使用西班牙文網頁登記</a>。適合 5&nbsp;歲及以上兒童。</p>

<p>Esta clinica ofrecer&aacute; GRATIS las vaccunas del COVID/Flu/Mpox para cualquiera con 5 a&ntilde;os o m&aacute;s de edad. Vis&iacute;te la clinica o reg&iacute;strase de antemano con el c&oacute;digo.&nbsp;<a href="http://tinyurl.com/2f5bw6z3">Registration in English</a>&nbsp;or&nbsp;<a href="http://tinyurl.com/4dw7acju">Para registrarse en espa&ntilde;ol</a>.&nbsp;Para mayores de 5&nbsp;a&ntilde;os.</p>

<p>&nbsp;</p>

<p>&nbsp;</p>
LOCATION:Visitacion Valley - Visitacion Valley General Floor Area
CLASS:PUBLIC
TRANSP:TRANSPARENT
END:VEVENT
BEGIN:VALARM
TRIGGER:-PT1440M
ACTION:DISPLAY
DESCRIPTION:Event Reminder - Services: Pop-Up Vaccination Clinic
END:VALARM
END:VCALENDAR