BEGIN:VCALENDAR
VERSION:2.0
PRODID:SFPL Web Calendar
BEGIN:VEVENT
UID:83888@sfpl.org
DTSTAMP:20240913T210000Z
DTSTART:20240913T210000Z
DTEND:20240913T223000Z
SUMMARY:Film: Cassandro, the Exotico!
DESCRIPTION:<p><em>Cassandro, the Exotico!</em> is a documentary following the star&nbsp;of the gender-bending cross-dressing Mexican wrestlers known as Exoticos. After 26 years of spinning dives and flying uppercuts in the ring, Cassandro, battles with the inevitability of retirement.</p>

<p>NR, 77mins., 2018. Closed captions (CC)&nbsp;in English.&nbsp;</p>
LOCATION:Noe Valley/Sally Brunn - Noe Valley Meeting Room
CLASS:PUBLIC
TRANSP:TRANSPARENT
END:VEVENT
BEGIN:VALARM
TRIGGER:-PT1440M
ACTION:DISPLAY
DESCRIPTION:Event Reminder - Film: Cassandro, the Exotico!
END:VALARM
END:VCALENDAR