BEGIN:VCALENDAR
VERSION:2.0
PRODID:SFPL Web Calendar
BEGIN:VEVENT
UID:83907@sfpl.org
DTSTAMP:20240513T170000Z
DTSTART:20240513T170000Z
DTEND:20240513T183000Z
SUMMARY:Activity: Digital Passport Bingo
DESCRIPTION:<p>No matter if you&rsquo;re just starting out on the Internet or you&rsquo;ve been online for a while, there&rsquo;s always more to discover. Explore safely and find information, make connections, and have fun with our Passport to the Digital World. Learn more about the destinations (movies, music, recipies, transportation) and so much more. Come play Digital Passport Bingo!&nbsp; Space Limited.</p>

<p>&nbsp;</p>

<p>The Community Living Campaign (CLC) brings greater joy, health, and connectedness to seniors and people with disabilities in San Francisco through&nbsp;community-building,&nbsp;empowerment, and&nbsp;advocacy.</p>

<p>Connect: Community Living Campaign&nbsp;<a href="https://sfcommunityliving.org/">Website</a>&nbsp;|&nbsp;<a href="https://www.facebook.com/CommunityLivingCampaign/">Facebook</a>&nbsp;|&nbsp;<a href="https://twitter.com/CLCtweets">Twitter</a></p>

<p>&nbsp;</p>

<p>This event is part of&nbsp;<a href="https://sfpl.org/locations/main-library/bridge-main-5th-floor/sf-tech-week">SF Tech Week</a>.</p>
LOCATION:Main Library - Learning Studio - 5th Fl
CLASS:PUBLIC
TRANSP:TRANSPARENT
END:VEVENT
BEGIN:VALARM
TRIGGER:-PT1440M
ACTION:DISPLAY
DESCRIPTION:Event Reminder - Activity: Digital Passport Bingo
END:VALARM
END:VCALENDAR