BEGIN:VCALENDAR
VERSION:2.0
PRODID:SFPL Web Calendar
BEGIN:VEVENT
UID:86029@sfpl.org
DTSTAMP:20240518T210000Z
DTSTART:20240518T210000Z
DTEND:20240518T223000Z
SUMMARY:Presentation: Everything Roth IRAs
DESCRIPTION:<p>Roth IRAs are a very effective retirement planning tool.&nbsp; Learn about:&nbsp;</p>

<ul>
	<li>
	<p>Qualifications to contribute to a Roth IRA&nbsp;</p>
	</li>
	<li>
	<p>Best candidates for a Roth IRA contribution&nbsp;</p>
	</li>
	<li>
	<p>How to take money out of a Roth IRA with no tax or penalties&nbsp;</p>
	</li>
	<li>
	<p>Back Door Roth IRAs&nbsp;</p>
	</li>
	<li>
	<p>Mega Back Door Roth IRAs&nbsp;</p>
	</li>
	<li>
	<p>The new 529 Plan Rollover to Roth IRAs&nbsp;</p>
	</li>
	<li>
	<p>What happens to Roth IRAs at death&nbsp;</p>
	</li>
</ul>

<p>Presented by Lawrence Pon CPA/PFS, CFP, EA, USTCP, AEP&nbsp;</p>
LOCATION:Virtual Library
CLASS:PUBLIC
TRANSP:TRANSPARENT
END:VEVENT
BEGIN:VALARM
TRIGGER:-PT1440M
ACTION:DISPLAY
DESCRIPTION:Event Reminder - Presentation: Everything Roth IRAs
END:VALARM
END:VCALENDAR