BEGIN:VCALENDAR
VERSION:2.0
PRODID:SFPL Web Calendar
BEGIN:VEVENT
UID:96110@sfpl.org
DTSTAMP:20240822T010000Z
DTSTART:20240822T010000Z
DTEND:20240822T023000Z
SUMMARY:Presentation: Backyard Composting
DESCRIPTION:<p>Compost is an integral ingredient in a healthy garden; it adds nutrients to soil and makes soil resilient during drought. In this in-person program, Charlotte Canner will discuss what compost is, why it’s such an important part of a healthy garden, and what compost can do in the fight against climate change. She’ll cover different options for making compost at home in any space, and what steps to take for each methodology.</p><p>Bring a container if you would like some worms to take home with you.&nbsp;</p><p>Charlotte Canner, IPM Advocate & Educator for the Our Water Our World program, discusses strategies to apply to your garden year-round to increase water efficiency, save money and keep our waterways clean.</p>
LOCATION:Bernal Heights - Bernal Heights Meeting Room
CLASS:PUBLIC
TRANSP:TRANSPARENT
END:VEVENT
BEGIN:VALARM
TRIGGER:-PT1440M
ACTION:DISPLAY
DESCRIPTION:Event Reminder - Presentation: Backyard Composting
END:VALARM
END:VCALENDAR