BEGIN:VCALENDAR
VERSION:2.0
PRODID:SFPL Web Calendar
BEGIN:VEVENT
UID:98806@sfpl.org
DTSTAMP:20250301T190000Z
DTSTART:20250301T190000Z
DTEND:20250301T210000Z
SUMMARY:Activity: Design and Build Houses
DESCRIPTION:<p>Create houses from plastic pieces that snap together. For children ages 3 and older.&nbsp;</p>
LOCATION:Excelsior - Excelsior Children's Area
CLASS:PUBLIC
TRANSP:TRANSPARENT
END:VEVENT
BEGIN:VALARM
TRIGGER:-PT1440M
ACTION:DISPLAY
DESCRIPTION:Event Reminder - Activity: Design and Build Houses
END:VALARM
END:VCALENDAR