BEGIN:VCALENDAR
VERSION:2.0
PRODID:SFPL Web Calendar
BEGIN:VEVENT
UID:101032@sfpl.org
DTSTAMP:20250127T213000Z
DTSTART:20250127T213000Z
DTEND:20250127T233000Z
SUMMARY:Workshop: Introduction to Bookbinding
DESCRIPTION:<p>Explore simple, non-adhesive book structures&nbsp;in this workshop for beginners. In addition to discussing material choices, techniques and historical uses, we will make a single-section pamphlet and a multi-section link stitch binding.&nbsp;</p><p>Class is limited to 10 participants. Reservations required: (415) 355-5626.</p>
LOCATION:North Beach - North Beach Library Community Room
CLASS:PUBLIC
TRANSP:TRANSPARENT
END:VEVENT
BEGIN:VALARM
TRIGGER:-PT1440M
ACTION:DISPLAY
DESCRIPTION:Event Reminder - Workshop: Introduction to Bookbinding
END:VALARM
END:VCALENDAR