BEGIN:VCALENDAR
VERSION:2.0
PRODID:SFPL Web Calendar
BEGIN:VEVENT
UID:101769@sfpl.org
DTSTAMP:20250125T220000Z
DTSTART:20250125T220000Z
DTEND:20250125T230000Z
SUMMARY:FULL: Workshop: Red Envelope Craft
DESCRIPTION:<p>The event and waitlist are full.&nbsp;</p><p>Instructor Maria Fong helps you create something beautiful out of red envelopes.&nbsp;</p>
LOCATION:Ortega - Ortega Meeting Room
CLASS:PUBLIC
TRANSP:TRANSPARENT
END:VEVENT
BEGIN:VALARM
TRIGGER:-PT1440M
ACTION:DISPLAY
DESCRIPTION:Event Reminder - FULL: Workshop: Red Envelope Craft
END:VALARM
END:VCALENDAR