BEGIN:VCALENDAR
VERSION:2.0
PRODID:SFPL Web Calendar
BEGIN:VEVENT
UID:101774@sfpl.org
DTSTAMP:20250517T180000Z
DTSTART:20250517T180000Z
DTEND:20250517T190000Z
SUMMARY:Book Club: All the Beauty in the World
DESCRIPTION:<p>Come discuss <a href="https://sfpl.bibliocommons.com/v2/record/S93C5663023"><i>All the Beauty in the World</i></a>, a fascinating portrait of the Metropolitan Museum of Art and its treasures by a former museum guard.</p><p>Ortega book club meets monthly, on third Saturdays. Selections alternate between fiction and nonfiction. See <a href="https://sfpl.bibliocommons.com/list/share/385356938_sfpl_ortegalib/501600438_ortega_book_club">upcoming selections</a>. Newcomers always welcome!</p>
LOCATION:Ortega - Ortega Meeting Room
CLASS:PUBLIC
TRANSP:TRANSPARENT
END:VEVENT
BEGIN:VALARM
TRIGGER:-PT1440M
ACTION:DISPLAY
DESCRIPTION:Event Reminder - Book Club: All the Beauty in the World
END:VALARM
END:VCALENDAR