BEGIN:VCALENDAR
VERSION:2.0
PRODID:SFPL Web Calendar
BEGIN:VEVENT
UID:103360@sfpl.org
DTSTAMP:20250213T010000Z
DTSTART:20250213T010000Z
DTEND:20250213T020000Z
SUMMARY:Workshop: Cross Stitch Basics for Tweens and Teens
DESCRIPTION:<p>Learn the basics of cross stitch and take home a complete kit to finish on your own time. Participants will learn stitches and how to follow a pattern. For ages 10–18.</p><p>Space limited. Reservations required: (415) 355-2848.&nbsp;</p>
LOCATION:Visitacion Valley - Visitacion Valley Meeting Room
CLASS:PUBLIC
TRANSP:TRANSPARENT
END:VEVENT
BEGIN:VALARM
TRIGGER:-PT1440M
ACTION:DISPLAY
DESCRIPTION:Event Reminder - Workshop: Cross Stitch Basics for Tweens and Teens
END:VALARM
END:VCALENDAR