BEGIN:VCALENDAR
VERSION:2.0
PRODID:SFPL Web Calendar
BEGIN:VEVENT
UID:103421@sfpl.org
DTSTAMP:20250507T010000Z
DTSTART:20250507T010000Z
DTEND:20250507T023000Z
SUMMARY:Panel: Behind the Byline: The State of Small Business in San Francisco
DESCRIPTION:<p>Local journalists discuss their raw and real takes on the current state of entrepreneurship in San Francisco based on their original reporting.&nbsp;</p><p>Moderated by <strong>Owen Thomas</strong> (<i>San Francisco Business Times)</i> and in celebration of San Francisco Small Business Week 2025, this panel discusses the good, the bad and the ugly of starting and running a small business in our City by the Bay. Moving beyond reporting break-ins and lauding the opening of new spots, panelists <strong>Kevin Nguyen</strong> (<i>San Francisco Standard</i>), <strong>James Salazar</strong> (<i>San Francisco Examiner</i>), <strong>Laura Waxmann </strong>(<i>San Francisco Chronicle</i>) and <strong>Junyao Yang</strong> (<i>Mission Local</i>) share compelling stories that illustrate trends driving small business success and failure. Where individual entrepreneurs are limited to their own experiences and those of the peers in their network, this panel of journalists presents a full picture of the scene&nbsp;while interrogating the bureaucratic mechanisms and negative media coverage that drag down small business owners. Behind the byline we get to know our local journalists and their unique expertise on the topic of small business opportunity. &nbsp;&nbsp;</p><p>Presented in partnership by the library's <a href="/smallbiz">Small Business Center</a> and <a href="https://sfpl.org/locations/main-library/magazines-newspapers-center">Magazines and Newspapers Center</a>.</p><p><strong>Owen Thomas </strong>is the&nbsp;Managing Editor of the <i>San Francisco Business Times. </i>With years of experience covering Bay Area business trends, including five years as Business Editor at the <i>San Francisco Chronicle</i>, Thomas brings expertise in the challenges and opportunities facing local entrepreneurs.&nbsp;</p><p><strong>Kevin Nguyen</strong> is a Business Reporter at the<i> San Francisco Standard</i>. He previously covered commercial real estate and sports business for the American City Business Journals. He’s also written for the <i>Sacramento Bee</i>, the <i>San Francisco Chronicle </i>and the <i>Guardian US</i>.&nbsp;</p><p><strong>James Salazar</strong> is the Neighborhoods & Culture Correspondent for the <i>San Francisco Examiner</i>, where he covers public transportation, the environment, and arts and culture. He graduated Summa Cum Laude from the University of San Francisco and received the Dick Blake Award for Excellence in Student Journalism.</p><p><strong>Laura Waxmann </strong>is a Business Reporter at the <i>San Francisco Chronicle</i> specializing in commercial real estate, development, retail and the future of downtown San Francisco. She has also written for the <i>San Francisco Business Times</i>, where she reported on the city's evolving real estate and economic landscape in the aftermath of the COVID-19 pandemic.</p><p><strong>Junyao Yang</strong> is a California Local News Fellow at <i>Mission Local</i>, focusing on data-driven storytelling and reporting on small businesses. Yang holds a Master's degree from the UC Berkeley Graduate School of Journalism.</p><p><strong>San Francisco Small Business Week</strong> was started in 2004&nbsp;by the San Francisco Chamber of Commerce. Running from May 5-9, 2025, the weeklong celebration shines a spotlight on the heartbeat of our city –&nbsp;its small businesses. With a variety of exciting events, workshops and networking opportunities, it's a chance for local entrepreneurs to connect, learn and thrive. The 21st annual event is hosted by the San Francisco Chamber of Commerce, and the San Francisco Public Library is proud to partner for another successful year of learning and networking between small business owners, employees and customers alike. &nbsp;</p><p><strong>Connect &nbsp;</strong></p><p><a href="https://www.bizjournals.com/sanfrancisco/bio/43648/Owen+Thomas">Owen Thomas – San Francisco Business Times</a> | <a href="https://www.linkedin.com/in/owenmthomas">Owen Thomas - LinkedIn</a> | <a href="https://muckrack.com/owenthomas">Owen Thomas – Muck Rack</a> &nbsp;</p><p><a href="https://sfstandard.com/author/kevin-v-nguyen/">Kevin V. Nguyen – San Francisco Standard</a> | <a href="https://www.linkedin.com/in/kevinwins89/">Kevin V. Nguyen – LinkedIn</a> | <a href="https://muckrack.com/kevin-nguyen-8">Kevin V. Nguyen – Muck Rack</a>&nbsp;</p><p><a href="https://www.sfexaminer.com/users/profile/james%20salazar/">James Salazar - San Francisco Examiner</a> | <a href="https://www.linkedin.com/in/james-salazar-7a8a7b165/">James Salazar - LinkedIn</a> | <a href="https://muckrack.com/james-salazar">James Salazar - Muck Rack</a>&nbsp;</p><p><a href="https://www.sfchronicle.com/author/laura-waxmann/">Laura Waxmann - San Francisco Chronicle</a> | <a href="https://www.linkedin.com/in/laura-waxmann-2b25b397/">Laura Waxmann - LinkedIn</a> | <a href="https://muckrack.com/laura-waxmann/articles">Laura Waxmann - Muck Rack</a></p><p><a href="https://missionlocal.org/author/junyaoy/">Junyao Yang - Mission Local</a> | <a href="https://www.linkedin.com/in/junyaoyang/">Junyao Yang - LinkedIn</a> | <a href="https://muckrack.com/junyao-yang">Junyao Yang - Muck Rack</a></p><p><a href="https://www.sfsmallbusinessweek.com/">San Francisco Small Business Week – Website</a> &nbsp;</p>
LOCATION:Main Library - Koret Auditorium
CLASS:PUBLIC
TRANSP:TRANSPARENT
END:VEVENT
BEGIN:VALARM
TRIGGER:-PT1440M
ACTION:DISPLAY
DESCRIPTION:Event Reminder - Panel: Behind the Byline: The State of Small Business in San Francisco
END:VALARM
END:VCALENDAR