BEGIN:VCALENDAR
VERSION:2.0
PRODID:SFPL Web Calendar
BEGIN:VEVENT
UID:103813@sfpl.org
DTSTAMP:20251001T230000Z
DTSTART:20251001T230000Z
DTEND:20251002T003000Z
SUMMARY:Film: Deep Web
DESCRIPTION:<p>October 1st, 2013 the founder of Silk Road, Ross Ulbricht, was arrested by the FBI in Glen Park Branch Library. Learn the inside story of one of the the most important and riveting digital crime sagas of the century, in the library where 'Dread Pirate Roberts' was caught.</p><p>In addition to being the only film with exclusive access to the Ulbricht family, Deep Web features the core architects of the Deep Web; anarchistic cryptographers who developed the Deep Web’s tools for the military in the early 1990s; the dissident journalists and whistleblowers who immediately sought refuge in this seemingly secure environment; and the figures behind the rise of Silk Road, which combined the security of the Deep Web with the anonymity of cryptocurrency.</p><p><i>Deep Web </i>is available via <a href="https://www.kanopy.com/en/sfpl/video/14220618">Kanopy</a>, <a href="https://sfpl.bibliocommons.com/v2/record/S93C3294597">Hoopla and DVD</a> with your library card.</p><p>2nd Floor Flix is Glen Park Branch's movie club for grownups. We watch a broad range of films, from classics to contemporaries, with a focus on exposing our audience to rising creatives, fan favorites and hopefully something new to you.</p><p>TV-MA, 89 mins., 2015. Closed captions (CC) in English.</p>
LOCATION:Glen Park - Glen Park Meeting Room
CLASS:PUBLIC
TRANSP:TRANSPARENT
END:VEVENT
BEGIN:VALARM
TRIGGER:-PT1440M
ACTION:DISPLAY
DESCRIPTION:Event Reminder - Film: Deep Web
END:VALARM
END:VCALENDAR