BEGIN:VCALENDAR
VERSION:2.0
PRODID:SFPL Web Calendar
BEGIN:VEVENT
UID:105406@sfpl.org
DTSTAMP:20250106T210000Z
DTSTART:20250106T210000Z
DTEND:20250106T224500Z
SUMMARY:Film: The Time Machine
DESCRIPTION:<p>From H.G. Wells' landmark novel comes the tale of an inventor of a time-travel device that whisks him through a war-ravaged 20th century and into a far-off era where humans are enslaved by evil subterranean mutants.</p><p><i>The Time Machine </i>is available on <a href="https://sfpl.bibliocommons.com/v2/record/S93C2478907">DVD</a> and <a href="https://sfpl.bibliocommons.com/v2/record/S93C2924396">Blu-ray</a> with your library card.</p><p>2nd Floor Flix is Glen Park Branch's movie club for grownups. We watch a broad range of films, from classics to contemporaries, with a focus on exposing our audience to rising creatives, fan favorites and hopefully something new to you.</p><p>G, 103 mins., 1960. Closed captions (CC) in English.</p>
LOCATION:Glen Park - Glen Park Meeting Room
CLASS:PUBLIC
TRANSP:TRANSPARENT
END:VEVENT
BEGIN:VALARM
TRIGGER:-PT1440M
ACTION:DISPLAY
DESCRIPTION:Event Reminder - Film: The Time Machine
END:VALARM
END:VCALENDAR