BEGIN:VCALENDAR
VERSION:2.0
PRODID:SFPL Web Calendar
BEGIN:VEVENT
UID:106695@sfpl.org
DTSTAMP:20250309T210000Z
DTSTART:20250309T210000Z
DTEND:20250309T220000Z
SUMMARY:Presentation: Language learning resources at SFPL
DESCRIPTION:<p>The San Francisco Public Library system offers several high-quality resources available for language learners. Please come to the Richmond Branch for a 1-hour workshop&nbsp;that will provide you an information about SFPL online resources available to you for&nbsp;language learning.</p>
LOCATION:Richmond/Senator Milton Marks - Richmond Meeting Room
CLASS:PUBLIC
TRANSP:TRANSPARENT
END:VEVENT
BEGIN:VALARM
TRIGGER:-PT1440M
ACTION:DISPLAY
DESCRIPTION:Event Reminder - Presentation: Language learning resources at SFPL
END:VALARM
END:VCALENDAR